BEGIN:VCALENDAR
VERSION:2.0
PRODID:-//PSTrax - ECPv6.2.8.2//NONSGML v1.0//EN
CALSCALE:GREGORIAN
METHOD:PUBLISH
X-WR-CALNAME:PSTrax
X-ORIGINAL-URL:https://pstrax.com
X-WR-CALDESC:Events for PSTrax
REFRESH-INTERVAL;VALUE=DURATION:PT1H
X-Robots-Tag:noindex
X-PUBLISHED-TTL:PT1H
BEGIN:VTIMEZONE
TZID:America/Chicago
BEGIN:DAYLIGHT
TZOFFSETFROM:-0600
TZOFFSETTO:-0500
TZNAME:CDT
DTSTART:20230312T080000
END:DAYLIGHT
BEGIN:STANDARD
TZOFFSETFROM:-0500
TZOFFSETTO:-0600
TZNAME:CST
DTSTART:20231105T070000
END:STANDARD
BEGIN:DAYLIGHT
TZOFFSETFROM:-0600
TZOFFSETTO:-0500
TZNAME:CDT
DTSTART:20240310T080000
END:DAYLIGHT
BEGIN:STANDARD
TZOFFSETFROM:-0500
TZOFFSETTO:-0600
TZNAME:CST
DTSTART:20241103T070000
END:STANDARD
END:VTIMEZONE
BEGIN:VEVENT
DTSTART;VALUE=DATE:20240304
DTEND;VALUE=DATE:20240308
DTSTAMP:20260419T120349
CREATED:20240211T144204Z
LAST-MODIFIED:20250314T165851Z
UID:79157-1709510400-1709855999@pstrax.com
SUMMARY:2024 ARFF Leadership Symposium • Port Charlotte\, FL
DESCRIPTION:Come see us at the conference!
URL:https://pstrax.com/event/2024-arff-leadership-symposium-port-charlotte-fl/
LOCATION:Sunseeker Resort Charlotte Harbor\, Address: 5500 Sunseeker Way\, Charlotte Harbor\, FL\, 33980
ATTACH;FMTTYPE=image/jpeg:https://pstrax.com/wp-content/uploads/2024/02/ARFF-Conference-final-4.jpg
END:VEVENT
BEGIN:VEVENT
DTSTART;VALUE=DATE:20240227
DTEND;VALUE=DATE:20240301
DTSTAMP:20260419T120349
CREATED:20240211T141803Z
LAST-MODIFIED:20240220T224703Z
UID:79152-1708992000-1709251199@pstrax.com
SUMMARY:CPSE Excellence Conference • Orlando\, FL
DESCRIPTION:Join our session on “Becoming a 21st Century Fire Department”!
URL:https://pstrax.com/event/cpse-excellence-conference-orlando-fl/
LOCATION:Caribe Royale Orlando\, Florida
ATTACH;FMTTYPE=image/jpeg:https://pstrax.com/wp-content/uploads/2024/02/cpse_excellence_conference_2024_final-2.jpg
END:VEVENT
BEGIN:VEVENT
DTSTART;TZID=America/Chicago:20240131T100000
DTEND;TZID=America/Chicago:20240131T110000
DTSTAMP:20260419T120349
CREATED:20240129T205857Z
LAST-MODIFIED:20240129T205857Z
UID:79143-1706695200-1706698800@pstrax.com
SUMMARY:WEBINAR: Transforming Your Checks with PSTrax
DESCRIPTION:Get the recording for this popular webinar where we look at each of our carefully designed modules.
URL:https://pstrax.com/event/webinar-transforming-your-checks-with-pstrax-1-31-24/
LOCATION:Fort Worth Convention Center
ATTACH;FMTTYPE=image/jpeg:https://pstrax.com/wp-content/uploads/2023/01/Transform-Your-Checks-Webinar.jpg
END:VEVENT
BEGIN:VEVENT
DTSTART;VALUE=DATE:20240110
DTEND;VALUE=DATE:20240113
DTSTAMP:20260419T120349
CREATED:20240108T155816Z
LAST-MODIFIED:20240108T160035Z
UID:79120-1704844800-1705103999@pstrax.com
SUMMARY:Florida Fire Conference • Orlando\, FL
DESCRIPTION:Come see us in Booth 1430!
URL:https://pstrax.com/event/florida-fire-conference/
LOCATION:Orange County Convention Center
ATTACH;FMTTYPE=image/jpeg:https://pstrax.com/wp-content/uploads/2024/01/Event-Hero-DARK-scaled.jpg
END:VEVENT
BEGIN:VEVENT
DTSTART;TZID=America/Chicago:20231211T113000
DTEND;TZID=America/Chicago:20231211T123000
DTSTAMP:20260419T120349
CREATED:20231129T154252Z
LAST-MODIFIED:20231129T154252Z
UID:79090-1702294200-1702297800@pstrax.com
SUMMARY:A First Responder's Holiday: Dealing with the job this time of year.
DESCRIPTION:We know the Holidays can be a tough time of year\, especially for our frontline heroes. Join us for a candid conversation with Jordan Long\, Founder of Revital Colorado and First Responder Mental Health Advocate.
URL:https://pstrax.com/event/a-first-responders-holiday-dealing-with-the-job-this-time-of-year-2023/
LOCATION:Fort Worth Convention Center
ATTACH;FMTTYPE=image/jpeg:https://pstrax.com/wp-content/uploads/2022/12/Gear-2-scaled.jpg
END:VEVENT
BEGIN:VEVENT
DTSTART;VALUE=DATE:20231205
DTEND;VALUE=DATE:20231208
DTSTAMP:20260419T120349
CREATED:20231120T152441Z
LAST-MODIFIED:20231120T152441Z
UID:79082-1701734400-1701993599@pstrax.com
SUMMARY:Technology Summit International • Irving\, TX
DESCRIPTION:Come see us in Booth 118!
URL:https://pstrax.com/event/technology-summit-international-irving-tx/
ATTACH;FMTTYPE=image/jpeg:https://pstrax.com/wp-content/uploads/2022/10/8b20949c3a314ce28e2e5528fcd23eee_LARGE_33104fc377402796f1b3ec009cd0365f.jpg
END:VEVENT
BEGIN:VEVENT
DTSTART;TZID=America/Chicago:20231115T100000
DTEND;TZID=America/Chicago:20231115T110000
DTSTAMP:20260419T120349
CREATED:20231108T212811Z
LAST-MODIFIED:20231108T212811Z
UID:79079-1700042400-1700046000@pstrax.com
SUMMARY:WEBINAR: Transforming Your Checks with PSTrax
DESCRIPTION:Get the recording for this popular webinar where we look at each of our carefully designed modules.
URL:https://pstrax.com/event/webinar-transforming-your-checks-with-pstrax-11-15-23/
LOCATION:Fort Worth Convention Center
ATTACH;FMTTYPE=image/jpeg:https://pstrax.com/wp-content/uploads/2023/01/Transform-Your-Checks-Webinar.jpg
END:VEVENT
BEGIN:VEVENT
DTSTART;VALUE=DATE:20231023
DTEND;VALUE=DATE:20231025
DTSTAMP:20260419T120349
CREATED:20230825T211826Z
LAST-MODIFIED:20230825T211826Z
UID:79032-1698019200-1698191999@pstrax.com
SUMMARY:PSTraxEDU User Group & Training Seminar • Tampa\, FL
DESCRIPTION:Don’t miss PSTrax’s in-person training seminar\, coming this Fall to Tampa!
URL:https://pstrax.com/event/pstraxedu-user-group-training-seminar-tampa-2023/
ATTACH;FMTTYPE=image/jpeg:https://pstrax.com/wp-content/uploads/2023/08/pexels-edgar-DARK-scaled.jpg
END:VEVENT
BEGIN:VEVENT
DTSTART;VALUE=DATE:20231019
DTEND;VALUE=DATE:20231020
DTSTAMP:20260419T120349
CREATED:20230920T152536Z
LAST-MODIFIED:20230920T152536Z
UID:79055-1697673600-1697759999@pstrax.com
SUMMARY:OKAMA Fall Conference
DESCRIPTION:Come see us in Oklahoma this fall.
URL:https://pstrax.com/event/okama-fall-conference-2023/
ATTACH;FMTTYPE=image/jpeg:https://pstrax.com/wp-content/uploads/2023/09/th-3.jpg
END:VEVENT
BEGIN:VEVENT
DTSTART;VALUE=DATE:20231016
DTEND;VALUE=DATE:20231021
DTSTAMP:20260419T120349
CREATED:20230919T155533Z
LAST-MODIFIED:20230919T160749Z
UID:79049-1697414400-1697846399@pstrax.com
SUMMARY:Colorado State Fire Chiefs Fire Leadership Challenge
DESCRIPTION:Come see us at the Conference!
URL:https://pstrax.com/event/colorado-state-fire-chiefs-fire-leadership-challenge-2023/
ATTACH;FMTTYPE=image/jpeg:https://pstrax.com/wp-content/uploads/2023/09/FireLeadershipChallenge2022-Day2-90-1-scaled.jpg
END:VEVENT
BEGIN:VEVENT
DTSTART;TZID=America/Chicago:20231012T100000
DTEND;TZID=America/Chicago:20231012T110000
DTSTAMP:20260419T120349
CREATED:20230920T135944Z
LAST-MODIFIED:20231012T173135Z
UID:79054-1697104800-1697108400@pstrax.com
SUMMARY:WEBINAR: Transforming Your Checks with PSTrax
DESCRIPTION:Get the recording for this popular webinar where we look at each of our carefully designed modules.
URL:https://pstrax.com/event/webinar-transforming-your-checks-with-pstrax-10-9-23/
LOCATION:Fort Worth Convention Center
ATTACH;FMTTYPE=image/jpeg:https://pstrax.com/wp-content/uploads/2023/01/Transform-Your-Checks-Webinar.jpg
END:VEVENT
BEGIN:VEVENT
DTSTART;TZID=America/Chicago:20230930T153000
DTEND;TZID=America/Chicago:20230930T210000
DTSTAMP:20260419T120349
CREATED:20230919T142614Z
LAST-MODIFIED:20230919T143157Z
UID:79046-1696087800-1696107600@pstrax.com
SUMMARY:REVITAL COLORADO: Battle of the Badges
DESCRIPTION:Come check out Revital Colorado’s 3rd Annual Battle of the Badges Fundraiser!
URL:https://pstrax.com/event/revital-colorado-battle-of-the-badges-2023/
ATTACH;FMTTYPE=image/jpeg:https://pstrax.com/wp-content/uploads/2023/09/CEM_0098.jpg
END:VEVENT
BEGIN:VEVENT
DTSTART;TZID=America/Chicago:20230926T100000
DTEND;TZID=America/Chicago:20230926T110000
DTSTAMP:20260419T120349
CREATED:20230908T180513Z
LAST-MODIFIED:20230908T180656Z
UID:79040-1695722400-1695726000@pstrax.com
SUMMARY:WEBINAR:  Keep Your Crews Safer with SCBA Tracking
DESCRIPTION:See how proper data collection provides powerful reports that can help ensure your crew’s SCBA is at its best.
URL:https://pstrax.com/event/webinar-keep-your-crews-safer-with-scba-tracking-9-26-23/
LOCATION:Fort Worth Convention Center
ATTACH;FMTTYPE=image/jpeg:https://pstrax.com/wp-content/uploads/2023/09/SCBA.jpg
END:VEVENT
BEGIN:VEVENT
DTSTART;TZID=America/Chicago:20230912T100000
DTEND;TZID=America/Chicago:20230912T110000
DTSTAMP:20260419T120349
CREATED:20230907T210819Z
LAST-MODIFIED:20230908T180556Z
UID:79039-1694512800-1694516400@pstrax.com
SUMMARY:WEBINAR: Transforming Your Checks with PSTrax
DESCRIPTION:Sign up for this popular LIVE webinar where we look at each of our carefully designed modules.
URL:https://pstrax.com/event/webinar-transforming-your-checks-with-pstrax-9-12-23/
LOCATION:Fort Worth Convention Center
ATTACH;FMTTYPE=image/jpeg:https://pstrax.com/wp-content/uploads/2023/01/Transform-Your-Checks-Webinar.jpg
END:VEVENT
BEGIN:VEVENT
DTSTART;TZID=America/Chicago:20230822T100000
DTEND;TZID=America/Chicago:20230822T110000
DTSTAMP:20260419T120349
CREATED:20230727T202024Z
LAST-MODIFIED:20230727T202024Z
UID:79013-1692698400-1692702000@pstrax.com
SUMMARY:WEBINAR: PSTrax & Critical Asset Tracking
DESCRIPTION:Learn how PSTrax keeps tabs on the full history for each high dollar asset in your department.
URL:https://pstrax.com/event/webinar-pstrax-critical-asset-tracking-8-22-23/
LOCATION:Fort Worth Convention Center
ATTACH;FMTTYPE=image/jpeg:https://pstrax.com/wp-content/uploads/2023/01/Critical-Assets-2-scaled.jpg
END:VEVENT
BEGIN:VEVENT
DTSTART;VALUE=DATE:20230816
DTEND;VALUE=DATE:20230819
DTSTAMP:20260419T120349
CREATED:20230727T204927Z
LAST-MODIFIED:20230727T204927Z
UID:79014-1692144000-1692403199@pstrax.com
SUMMARY:Fire-Rescue International • Kansas City\, MO
DESCRIPTION:Come see us on the show floor! Booth 3620 in the Tech Zone.
URL:https://pstrax.com/event/fire-rescue-international-2023-kansas-city-mo/
ATTACH;FMTTYPE=image/webp:https://pstrax.com/wp-content/uploads/2023/07/49qfh682quk01-scaled.webp
END:VEVENT
BEGIN:VEVENT
DTSTART;TZID=America/Chicago:20230808T100000
DTEND;TZID=America/Chicago:20230808T110000
DTSTAMP:20260419T120349
CREATED:20230727T185034Z
LAST-MODIFIED:20230808T155614Z
UID:79012-1691488800-1691492400@pstrax.com
SUMMARY:WEBINAR: Transforming Your Checks with PSTrax
DESCRIPTION:Get the recording for this popular webinar where we look at each of our carefully designed modules.
URL:https://pstrax.com/event/webinar-transforming-your-checks-with-pstrax-8-8-23/
LOCATION:Fort Worth Convention Center
ATTACH;FMTTYPE=image/jpeg:https://pstrax.com/wp-content/uploads/2023/01/Transform-Your-Checks-Webinar.jpg
END:VEVENT
BEGIN:VEVENT
DTSTART;VALUE=DATE:20230720
DTEND;VALUE=DATE:20230722
DTSTAMP:20260419T120349
CREATED:20230602T002618Z
LAST-MODIFIED:20230602T002618Z
UID:78985-1689811200-1689983999@pstrax.com
SUMMARY:PSTraxEDU User Group & Training Seminar • Arlington\, TX
DESCRIPTION:Don’t miss PSTrax’s in-person training seminar\, coming this Summer to Arlington!
URL:https://pstrax.com/event/pstraxedu-user-group-training-seminar-arlington-tx/
ATTACH;FMTTYPE=image/jpeg:https://pstrax.com/wp-content/uploads/2023/06/05_Texas_Dallas-K5DATJ-DARK.jpg
END:VEVENT
BEGIN:VEVENT
DTSTART;TZID=America/Chicago:20230719T100000
DTEND;TZID=America/Chicago:20230719T110000
DTSTAMP:20260419T120349
CREATED:20230613T155148Z
LAST-MODIFIED:20250320T185251Z
UID:78990-1689760800-1689764400@pstrax.com
SUMMARY:WEBINAR: Transforming Your Checks with PSTrax on July 19\, 2023
DESCRIPTION:You won’t want to miss this popular webinar where we’ll take a look at each of our carefully designed modules.
URL:https://pstrax.com/event/webinar-transforming-your-checks-with-pstrax-7-19-23/
LOCATION:Fort Worth Convention Center
ATTACH;FMTTYPE=image/jpeg:https://pstrax.com/wp-content/uploads/2023/01/Transform-Your-Checks-Webinar.jpg
END:VEVENT
BEGIN:VEVENT
DTSTART;TZID=America/Chicago:20230627T100000
DTEND;TZID=America/Chicago:20230627T110000
DTSTAMP:20260419T120349
CREATED:20230516T164213Z
LAST-MODIFIED:20230516T164213Z
UID:78972-1687860000-1687863600@pstrax.com
SUMMARY:WEBINAR: Maintenance Night Made Easy with PSTrax
DESCRIPTION:See firsthand how PSTrax can make maintenance night a breeze. We’ll cover our vehicle and station modules in this live webinar.
URL:https://pstrax.com/event/webinar-maintenance-night-made-easy-with-pstrax/
LOCATION:Fort Worth Convention Center
ATTACH;FMTTYPE=image/jpeg:https://pstrax.com/wp-content/uploads/2023/05/Rig-Stations-2-scaled.jpg
END:VEVENT
BEGIN:VEVENT
DTSTART;TZID=America/Chicago:20230613T100000
DTEND;TZID=America/Chicago:20230613T110000
DTSTAMP:20260419T120349
CREATED:20230516T155217Z
LAST-MODIFIED:20230516T155217Z
UID:78971-1686650400-1686654000@pstrax.com
SUMMARY:WEBINAR: Transforming Your Checks with PSTrax
DESCRIPTION:You won’t want to miss this popular webinar where we’ll take a look at each of our carefully designed modules.
URL:https://pstrax.com/event/webinar-transforming-your-checks-with-pstrax-6-13-23/
LOCATION:Fort Worth Convention Center
ATTACH;FMTTYPE=image/jpeg:https://pstrax.com/wp-content/uploads/2023/01/Transform-Your-Checks-Webinar.jpg
END:VEVENT
BEGIN:VEVENT
DTSTART;VALUE=DATE:20230604
DTEND;VALUE=DATE:20230609
DTSTAMP:20260419T120349
CREATED:20230518T203339Z
LAST-MODIFIED:20230518T203339Z
UID:78974-1685836800-1686268799@pstrax.com
SUMMARY:Metro Fire Chiefs • Columbus\, OH
DESCRIPTION:Come see us on the show floor!
URL:https://pstrax.com/event/metro-fire-chiefs-columbus-oh/
ATTACH;FMTTYPE=image/jpeg:https://pstrax.com/wp-content/uploads/2023/05/Columbus-Ohio-USA-skyline-on-the-river-at-dusk.jpg
END:VEVENT
BEGIN:VEVENT
DTSTART;VALUE=DATE:20230522
DTEND;VALUE=DATE:20230525
DTSTAMP:20260419T120349
CREATED:20230518T205400Z
LAST-MODIFIED:20230518T205400Z
UID:78980-1684713600-1684972799@pstrax.com
SUMMARY:EMS Chiefs Summit • Austin\, TX
DESCRIPTION:Looking forward to the summit!
URL:https://pstrax.com/event/ems-chiefs-summit-austin-tx/
ATTACH;FMTTYPE=image/jpeg:https://pstrax.com/wp-content/uploads/2023/05/Austin.jpg
END:VEVENT
BEGIN:VEVENT
DTSTART;TZID=America/Chicago:20230516T100000
DTEND;TZID=America/Chicago:20230516T110000
DTSTAMP:20260419T120349
CREATED:20230405T135815Z
LAST-MODIFIED:20230503T153124Z
UID:78949-1684231200-1684234800@pstrax.com
SUMMARY:WEBINAR: Track the movement of your Controlled Substances with PSTrax
DESCRIPTION:Learn how PSTrax helps monitor the movement of your Controlled Substances with PSTrax …
URL:https://pstrax.com/event/webinar-controlled-substance-tracking-with-pstrax-5-16-23/
LOCATION:Fort Worth Convention Center
ATTACH;FMTTYPE=image/jpeg:https://pstrax.com/wp-content/uploads/2023/04/Controlled-Substances-scaled.jpg
END:VEVENT
BEGIN:VEVENT
DTSTART;TZID=America/Chicago:20230509T100000
DTEND;TZID=America/Chicago:20230509T110000
DTSTAMP:20260419T120349
CREATED:20230427T210140Z
LAST-MODIFIED:20230427T210140Z
UID:78967-1683626400-1683630000@pstrax.com
SUMMARY:WEBINAR: Transforming Your Checks with PSTrax
DESCRIPTION:You won’t want to miss this popular webinar where we’ll take a look at each of our carefully designed modules.
URL:https://pstrax.com/event/webinar-transforming-your-checks-with-pstrax-05-09-23/
LOCATION:Fort Worth Convention Center
ATTACH;FMTTYPE=image/jpeg:https://pstrax.com/wp-content/uploads/2023/01/Transform-Your-Checks-Webinar.jpg
END:VEVENT
BEGIN:VEVENT
DTSTART;VALUE=DATE:20230414
DTEND;VALUE=DATE:20230416
DTSTAMP:20260419T120349
CREATED:20230223T213904Z
LAST-MODIFIED:20230223T214058Z
UID:78907-1681430400-1681603199@pstrax.com
SUMMARY:PSTraxEDU User Group & Training Seminar • Denver\, CO
DESCRIPTION:Don’t miss PSTrax’s inaugural in-person training seminar\, coming this Spring to Denver!
URL:https://pstrax.com/event/pstraxedu-user-group-training-seminar-denver-co/
LOCATION:Hilton Garden Inn\, Denver Tech Center\, 7675 East Union Ave\, Denver\, CO\, United States
ATTACH;FMTTYPE=image/jpeg:https://pstrax.com/wp-content/uploads/2023/02/LP-Cover-scaled.jpg
END:VEVENT
BEGIN:VEVENT
DTSTART;VALUE=DATE:20230412
DTEND;VALUE=DATE:20230415
DTSTAMP:20260419T120349
CREATED:20221221T222822Z
LAST-MODIFIED:20221222T154030Z
UID:78719-1681257600-1681516799@pstrax.com
SUMMARY:Oklahoma Association of Fire Chiefs • Lawton\, OK
DESCRIPTION:Come see us on the show floor!
URL:https://pstrax.com/event/ofca-lawton-ok/
LOCATION:Apache Casino Hotel\, Lawton\, OK
ATTACH;FMTTYPE=image/jpeg:https://pstrax.com/wp-content/uploads/2022/12/apache-casino-hotel.jpg
END:VEVENT
BEGIN:VEVENT
DTSTART;TZID=America/Chicago:20230328T100000
DTEND;TZID=America/Chicago:20230328T110000
DTSTAMP:20260419T120349
CREATED:20230317T205033Z
LAST-MODIFIED:20230317T205033Z
UID:78917-1679997600-1680001200@pstrax.com
SUMMARY:WEBINAR: Tracking the Full History of Your SCBA Gear
DESCRIPTION:PSTrax documents any type of event – inspections\, hydrostat tests\, air fills\, flow tests\, repairs\, contaminant exposures\, and more. See How …
URL:https://pstrax.com/event/webinar-tracking-the-full-history-of-your-scba-gear/
LOCATION:Fort Worth Convention Center
ATTACH;FMTTYPE=image/jpeg:https://pstrax.com/wp-content/uploads/2023/03/SCBA.jpg
END:VEVENT
BEGIN:VEVENT
DTSTART;TZID=America/Chicago:20230314T100000
DTEND;TZID=America/Chicago:20230314T110000
DTSTAMP:20260419T120349
CREATED:20230228T173524Z
LAST-MODIFIED:20230228T173524Z
UID:78911-1678788000-1678791600@pstrax.com
SUMMARY:WEBINAR: Transforming Your Checks with PSTrax
DESCRIPTION:You won’t want to miss this popular webinar where we’ll take a look at each of our carefully designed modules.
URL:https://pstrax.com/event/webinar-transforming-your-checks-with-pstrax/
LOCATION:Fort Worth Convention Center
ATTACH;FMTTYPE=image/jpeg:https://pstrax.com/wp-content/uploads/2023/01/Transform-Your-Checks-Webinar.jpg
END:VEVENT
BEGIN:VEVENT
DTSTART;TZID=America/Chicago:20230228T100000
DTEND;TZID=America/Chicago:20230228T110000
DTSTAMP:20260419T120349
CREATED:20230130T191905Z
LAST-MODIFIED:20230130T191905Z
UID:78778-1677578400-1677582000@pstrax.com
SUMMARY:WEBINAR: Rig Check Automation\, Simplified.
DESCRIPTION:Learn how PSTrax helps agencies like yours simplify vehicle checks in this one-hour webinar.
URL:https://pstrax.com/event/webinar-rig-check-automation-simplified/
LOCATION:Fort Worth Convention Center
ATTACH;FMTTYPE=image/jpeg:https://pstrax.com/wp-content/uploads/2023/01/Veh-Mod-Event-Email.jpg
END:VEVENT
END:VCALENDAR