BEGIN:VCALENDAR
VERSION:2.0
PRODID:-//PSTrax - ECPv6.2.8.2//NONSGML v1.0//EN
CALSCALE:GREGORIAN
METHOD:PUBLISH
X-WR-CALNAME:PSTrax
X-ORIGINAL-URL:https://pstrax.com
X-WR-CALDESC:Events for PSTrax
REFRESH-INTERVAL;VALUE=DURATION:PT1H
X-Robots-Tag:noindex
X-PUBLISHED-TTL:PT1H
BEGIN:VTIMEZONE
TZID:America/Chicago
BEGIN:DAYLIGHT
TZOFFSETFROM:-0600
TZOFFSETTO:-0500
TZNAME:CDT
DTSTART:20220313T080000
END:DAYLIGHT
BEGIN:STANDARD
TZOFFSETFROM:-0500
TZOFFSETTO:-0600
TZNAME:CST
DTSTART:20221106T070000
END:STANDARD
END:VTIMEZONE
BEGIN:VEVENT
DTSTART;TZID=America/Chicago:20221108T120000
DTEND;TZID=America/Chicago:20221108T150000
DTSTAMP:20260421T092939
CREATED:20221024T204308Z
LAST-MODIFIED:20221024T204443Z
UID:78651-1667908800-1667919600@pstrax.com
SUMMARY:Houston Area Regional Training Opportunity
DESCRIPTION:Come see us at Katy Fire for an in-person training session with our CEO & Founder\, Scott Bergeron.
URL:https://pstrax.com/event/regional-training-opportunity-katytx-11-8-22/
LOCATION:OK
ATTACH;FMTTYPE=image/jpeg:https://pstrax.com/wp-content/uploads/2022/10/pexels-trace-hudson-7142456-1.jpg
END:VEVENT
BEGIN:VEVENT
DTSTART;TZID=America/Chicago:20221018T100000
DTEND;TZID=America/Chicago:20221018T110000
DTSTAMP:20260421T092939
CREATED:20221017T203856Z
LAST-MODIFIED:20221017T211810Z
UID:78639-1666087200-1666090800@pstrax.com
SUMMARY:PSTrax Tracks All Your Controlled Substances
DESCRIPTION:The PSTrax Controlled Substance Module tracks every vial handoff. Register for this live webinar today!
URL:https://pstrax.com/event/pstrax-tracks-all-your-controlled-substances_10-18-22/
LOCATION:Fort Worth Convention Center
ATTACH;FMTTYPE=image/jpeg:https://pstrax.com/wp-content/uploads/2022/10/AdobeStock_121739633-scaled.jpeg
END:VEVENT
END:VCALENDAR